BEGIN:VCALENDAR
VERSION:2.0
PRODID:-//Path to The University of Kansas Health System - ECPv6.15.20//NONSGML v1.0//EN
CALSCALE:GREGORIAN
METHOD:PUBLISH
X-WR-CALNAME:Path to The University of Kansas Health System
X-ORIGINAL-URL:https://pathtokansashealth.com
X-WR-CALDESC:Events for Path to The University of Kansas Health System
REFRESH-INTERVAL;VALUE=DURATION:PT1H
X-Robots-Tag:noindex
X-PUBLISHED-TTL:PT1H
BEGIN:VTIMEZONE
TZID:UTC
BEGIN:STANDARD
TZOFFSETFROM:+0000
TZOFFSETTO:+0000
TZNAME:UTC
DTSTART:20220101T000000
END:STANDARD
END:VTIMEZONE
BEGIN:VEVENT
DTSTART;VALUE=DATE:20231218
DTEND;VALUE=DATE:20231219
DTSTAMP:20260421T102523
CREATED:20231102T171840Z
LAST-MODIFIED:20231129T041154Z
UID:10000472-1702857600-1702943999@pathtokansashealth.com
SUMMARY:Learn about Microsoft Outlook
DESCRIPTION:E-learning courses on Microsoft 365 Outlook and Teams are available on HealthStream. To find the optional training course\, please follow the directions below: \n\nLogin to HealthStream using this link (if you have an admin and student account\, make sure you’re in “student” account)\nGo to the “Catalog”\nUse the search bar to locate the course and click on the title (blue text) of the course: “Microsoft 365 Outlook and Teams: E-learnings for Olathe”\nSelect “Enroll”\nOnce you enroll\, the learning activities will become available to “View”
URL:https://pathtokansashealth.com/event/learn-about-microsoft-outlook/2023-12-18/
CATEGORIES:Employees + APPs,Leaders,Physicians
ATTACH;FMTTYPE=image/png:https://pathtokansashealth.com/wp-content/uploads/2023/11/Tag_Optional_Training.png
END:VEVENT
END:VCALENDAR