BEGIN:VCALENDAR
VERSION:2.0
PRODID:-//Path to The University of Kansas Health System - ECPv6.15.20//NONSGML v1.0//EN
CALSCALE:GREGORIAN
METHOD:PUBLISH
X-WR-CALNAME:Path to The University of Kansas Health System
X-ORIGINAL-URL:https://pathtokansashealth.com
X-WR-CALDESC:Events for Path to The University of Kansas Health System
REFRESH-INTERVAL;VALUE=DURATION:PT1H
X-Robots-Tag:noindex
X-PUBLISHED-TTL:PT1H
BEGIN:VTIMEZONE
TZID:UTC
BEGIN:STANDARD
TZOFFSETFROM:+0000
TZOFFSETTO:+0000
TZNAME:UTC
DTSTART:20260101T000000
END:STANDARD
END:VTIMEZONE
BEGIN:VEVENT
DTSTART;VALUE=DATE:00240501
DTEND;VALUE=DATE:00240502
DTSTAMP:20260425T122227
CREATED:20240205T041434Z
LAST-MODIFIED:20240205T041434Z
UID:790--61399382400--61399296001@pathtokansashealth.com
SUMMARY:REMINDER: Maintenance medication changes effective June 1\, 2024\, for employees at Olathe Health locations:
DESCRIPTION:Beginning June 1\, maintenance medications filled outside the health system pharmacy will not be covered. The sooner you transition your prescriptions\, the sooner you can take advantage of lower copays and coinsurance provided by the health system pharmacy. \nWhat you need to do: \n\nAsk your prescriber to send a new electronic prescription to The University of Kansas Health System Southlake Retail Pharmacy.\nWe recommend sending prescriptions for at least a 90-day supply\, which will be a requirement starting June 1.\nDo this at least 4 weeks prior to running out of the medication. This allows time for the pharmacy to gather additional information and/or authorization that may be needed.\nTo save time\, contact the pharmacy after the prescription has been sent at 913-574-0600 to ensure they have your preferred delivery address and payment information (for your copay or coinsurance). Delivery is free through the health system’s Southlake Retail Pharmacy.
URL:https://pathtokansashealth.com/event/reminder-maintenance-medication-changes-effective-june-1-2024-for-employees-at-olathe-health-locations/
CATEGORIES:Employees + APPs,Leaders
ATTACH;FMTTYPE=image/png:https://pathtokansashealth.com/wp-content/uploads/2023/11/Tag_Action_Required.png
END:VEVENT
END:VCALENDAR