BEGIN:VCALENDAR
VERSION:2.0
PRODID:-//Path to The University of Kansas Health System - ECPv6.15.20//NONSGML v1.0//EN
CALSCALE:GREGORIAN
METHOD:PUBLISH
X-WR-CALNAME:Path to The University of Kansas Health System
X-ORIGINAL-URL:https://pathtokansashealth.com
X-WR-CALDESC:Events for Path to The University of Kansas Health System
REFRESH-INTERVAL;VALUE=DURATION:PT1H
X-Robots-Tag:noindex
X-PUBLISHED-TTL:PT1H
BEGIN:VTIMEZONE
TZID:UTC
BEGIN:STANDARD
TZOFFSETFROM:+0000
TZOFFSETTO:+0000
TZNAME:UTC
DTSTART:20220101T000000
END:STANDARD
END:VTIMEZONE
BEGIN:VEVENT
DTSTART;VALUE=DATE:20231213
DTEND;VALUE=DATE:20231221
DTSTAMP:20260421T123714
CREATED:20231102T171605Z
LAST-MODIFIED:20231102T171605Z
UID:10000320-1702425600-1703116799@pathtokansashealth.com
SUMMARY:Approve invoices in Lawson before Workday cutover
DESCRIPTION:Managers must approve invoices in Lawson by December 20\, 2023. Additional information will be provided in the weekly integration communication to leaders.
URL:https://pathtokansashealth.com/event/approve-invoices-in-lawson-before-workday-cutover/
CATEGORIES:Leaders
ATTACH;FMTTYPE=image/png:https://pathtokansashealth.com/wp-content/uploads/2023/11/Tag_Action_Required.png
END:VEVENT
BEGIN:VEVENT
DTSTART;VALUE=DATE:20231214
DTEND;VALUE=DATE:20231224
DTSTAMP:20260421T123714
CREATED:20231114T033905Z
LAST-MODIFIED:20231212T180019Z
UID:10000346-1702540800-1703350800@pathtokansashealth.com
SUMMARY:New health system badge distribution
DESCRIPTION:You will receive your health system branded badge and accompanying items: \n\nBadge reel\nBadge buddy\nFAQ’s regarding badge uses and how to wear
URL:https://pathtokansashealth.com/event/new-ukhs-badge-distribution/
CATEGORIES:Employees + APPs,Leaders
ATTACH;FMTTYPE=image/png:https://pathtokansashealth.com/wp-content/uploads/2023/11/Tag_Informational.png
END:VEVENT
BEGIN:VEVENT
DTSTART;VALUE=DATE:20231218
DTEND;VALUE=DATE:20240112
DTSTAMP:20260421T123714
CREATED:20231114T202105Z
LAST-MODIFIED:20240108T144000Z
UID:10000357-1702857600-1705017599@pathtokansashealth.com
SUMMARY:Onsite health system desktop IT support (Login\, Duo\, M365\, Outlook\, Password Resets\, etc.)
DESCRIPTION:If you need help with health system related applications\, logins\, setting up the health system Duo on your mobile phone and/or Outlook\, IT team members will be onsite to assist. This is optional. Location and times below.
URL:https://pathtokansashealth.com/event/onsite-health-system-desktop-it-support-login-duo-m365-outlook-password-resets-etc/
LOCATION:Monday\, December 18\, 7 a.m.-5:30 p.m.  DB1 304 Conference Room
CATEGORIES:Employees + APPs,Leaders,Physicians
ATTACH;FMTTYPE=image/png:https://pathtokansashealth.com/wp-content/uploads/2023/11/Tag_Informational.png
END:VEVENT
BEGIN:VEVENT
DTSTART;VALUE=DATE:20231220
DTEND;VALUE=DATE:20231221
DTSTAMP:20260421T123714
CREATED:20231102T171840Z
LAST-MODIFIED:20231129T041154Z
UID:10000474-1703030400-1703116799@pathtokansashealth.com
SUMMARY:Learn about Microsoft Outlook
DESCRIPTION:E-learning courses on Microsoft 365 Outlook and Teams are available on HealthStream. To find the optional training course\, please follow the directions below: \n\nLogin to HealthStream using this link (if you have an admin and student account\, make sure you’re in “student” account)\nGo to the “Catalog”\nUse the search bar to locate the course and click on the title (blue text) of the course: “Microsoft 365 Outlook and Teams: E-learnings for Olathe”\nSelect “Enroll”\nOnce you enroll\, the learning activities will become available to “View”
URL:https://pathtokansashealth.com/event/learn-about-microsoft-outlook/2023-12-20/
CATEGORIES:Employees + APPs,Leaders,Physicians
ATTACH;FMTTYPE=image/png:https://pathtokansashealth.com/wp-content/uploads/2023/11/Tag_Optional_Training.png
END:VEVENT
BEGIN:VEVENT
DTSTART;VALUE=DATE:20231220
DTEND;VALUE=DATE:20231221
DTSTAMP:20260421T123714
CREATED:20231102T172014Z
LAST-MODIFIED:20231129T041332Z
UID:10000451-1703030400-1703116799@pathtokansashealth.com
SUMMARY:Learn about Microsoft Teams
DESCRIPTION:E-learning courses on Microsoft 365 Outlook and Teams are available on HealthStream. To find the optional training course\, please follow the directions below: \n\nLogin to HealthStream using this link (if you have an admin and student account\, make sure you’re in “student” account)\nGo to the “Catalog”\nUse the search bar to locate the course and click on the title (blue text) of the course: “Microsoft 365 Outlook and Teams: E-learnings for Olathe”\nSelect “Enroll”\nOnce you enroll\, the learning activities will become available to “View”
URL:https://pathtokansashealth.com/event/learn-about-microsoft-teams/2023-12-20/
CATEGORIES:Employees + APPs,Leaders,Physicians
ATTACH;FMTTYPE=image/png:https://pathtokansashealth.com/wp-content/uploads/2023/11/Tag_Optional_Training.png
END:VEVENT
BEGIN:VEVENT
DTSTART;VALUE=DATE:20231220
DTEND;VALUE=DATE:20231221
DTSTAMP:20260421T123714
CREATED:20231102T174746Z
LAST-MODIFIED:20231218T173926Z
UID:10000326-1703030400-1703116799@pathtokansashealth.com
SUMMARY:Health system email live
DESCRIPTION:Begin using your new email account. Your Olathe Health email will forward to your health system inbox until December 31\, 2024. Create your new email signature. Encourage your contacts to use your new email address and update their records by including instructions in your email signature. Your calendars\, contacts\, notes and rules will migrate over. \nTip sheet will be available on The Pulse\, 24/7 and Workday at a later date.
URL:https://pathtokansashealth.com/event/health-system-email-live/
CATEGORIES:Employees + APPs,Leaders,Physicians
ATTACH;FMTTYPE=image/png:https://pathtokansashealth.com/wp-content/uploads/2023/11/Tag_Action_Required.png
END:VEVENT
BEGIN:VEVENT
DTSTART;VALUE=DATE:20231220
DTEND;VALUE=DATE:20231221
DTSTAMP:20260421T123714
CREATED:20231204T170738Z
LAST-MODIFIED:20240112T174006Z
UID:10000507-1703030400-1703116799@pathtokansashealth.com
SUMMARY:Fidelity Sessions
DESCRIPTION:Fidelity educational sessions with Olathe employees. Various locations and virtual options available as well using the following link. \n 
URL:https://pathtokansashealth.com/event/fidelity-sessions/2023-12-20/
CATEGORIES:Employees + APPs,Leaders
ATTACH;FMTTYPE=image/png:https://pathtokansashealth.com/wp-content/uploads/2023/11/Tag_Informational.png
END:VEVENT
BEGIN:VEVENT
DTSTART;TZID=UTC:20231220T100000
DTEND;TZID=UTC:20231220T110000
DTSTAMP:20260421T123714
CREATED:20231114T204721Z
LAST-MODIFIED:20231120T191542Z
UID:10000371-1703066400-1703070000@pathtokansashealth.com
SUMMARY:Integration readiness: Open Q&A
DESCRIPTION:Agenda provides open Q&A opportunity for final cutover preparation.
URL:https://pathtokansashealth.com/event/integration-readiness-open-qa/
LOCATION:Doctor’s Building 2\, Conference Room 315 with a virtual option through Microsoft Teams
CATEGORIES:Leaders
ATTACH;FMTTYPE=image/png:https://pathtokansashealth.com/wp-content/uploads/2023/11/Tag_Required_Training.png
END:VEVENT
END:VCALENDAR