BEGIN:VCALENDAR
VERSION:2.0
PRODID:-//Path to The University of Kansas Health System - ECPv6.15.20//NONSGML v1.0//EN
CALSCALE:GREGORIAN
METHOD:PUBLISH
X-WR-CALNAME:Path to The University of Kansas Health System
X-ORIGINAL-URL:https://pathtokansashealth.com
X-WR-CALDESC:Events for Path to The University of Kansas Health System
REFRESH-INTERVAL;VALUE=DURATION:PT1H
X-Robots-Tag:noindex
X-PUBLISHED-TTL:PT1H
BEGIN:VTIMEZONE
TZID:UTC
BEGIN:STANDARD
TZOFFSETFROM:+0000
TZOFFSETTO:+0000
TZNAME:UTC
DTSTART:20230101T000000
END:STANDARD
END:VTIMEZONE
BEGIN:VEVENT
DTSTART;TZID=UTC:20240116T063000
DTEND;TZID=UTC:20240116T090000
DTSTAMP:20260419T192755
CREATED:20231115T044527Z
LAST-MODIFIED:20240112T200652Z
UID:10000382-1705386600-1705395600@pathtokansashealth.com
SUMMARY:Learn more about your new retirement plans: In-person help desk
DESCRIPTION:30-minute group sessions and drop-in help desk sessions during December and January will introduce the health system plans to those eligible. No registration is needed for in-person sessions on: Dec. 1\, Dec. 6\, Dec. 7\, Dec. 11\, Dec. 21\, Jan. 3\, Jan. 10\, Jan. 11\, Jan. 16\, Jan. 23 and Jan. 24.
URL:https://pathtokansashealth.com/event/learn-more-about-your-new-retirement-plans-in-person-help-desk-4/
LOCATION:Help desk 6:30-9 a.m. Olathe Medical Center Lobby
CATEGORIES:Employees + APPs,Leaders
ATTACH;FMTTYPE=image/png:https://pathtokansashealth.com/wp-content/uploads/2023/11/Tag_Informational.png
END:VEVENT
END:VCALENDAR